BEGIN:VCALENDAR
VERSION:2.0
PRODID:-//Action Cancer - ECPv6.15.20//NONSGML v1.0//EN
CALSCALE:GREGORIAN
METHOD:PUBLISH
X-ORIGINAL-URL:https://actioncancer.org
X-WR-CALDESC:Events for Action Cancer
REFRESH-INTERVAL;VALUE=DURATION:PT1H
X-Robots-Tag:noindex
X-PUBLISHED-TTL:PT1H
BEGIN:VTIMEZONE
TZID:Europe/Dublin
BEGIN:DAYLIGHT
TZOFFSETFROM:+0000
TZOFFSETTO:+0100
TZNAME:IST
DTSTART:20220327T010000
END:DAYLIGHT
BEGIN:STANDARD
TZOFFSETFROM:+0100
TZOFFSETTO:+0000
TZNAME:GMT
DTSTART:20221030T010000
END:STANDARD
BEGIN:DAYLIGHT
TZOFFSETFROM:+0000
TZOFFSETTO:+0100
TZNAME:IST
DTSTART:20230326T010000
END:DAYLIGHT
BEGIN:STANDARD
TZOFFSETFROM:+0100
TZOFFSETTO:+0000
TZNAME:GMT
DTSTART:20231029T010000
END:STANDARD
BEGIN:DAYLIGHT
TZOFFSETFROM:+0000
TZOFFSETTO:+0100
TZNAME:IST
DTSTART:20240331T010000
END:DAYLIGHT
BEGIN:STANDARD
TZOFFSETFROM:+0100
TZOFFSETTO:+0000
TZNAME:GMT
DTSTART:20241027T010000
END:STANDARD
BEGIN:DAYLIGHT
TZOFFSETFROM:+0000
TZOFFSETTO:+0100
TZNAME:IST
DTSTART:20250330T010000
END:DAYLIGHT
BEGIN:STANDARD
TZOFFSETFROM:+0100
TZOFFSETTO:+0000
TZNAME:GMT
DTSTART:20251026T010000
END:STANDARD
END:VTIMEZONE
BEGIN:VEVENT
DTSTART;VALUE=DATE:20231011
DTEND;VALUE=DATE:20241011
DTSTAMP:20260423T092326
CREATED:20260403T093755Z
LAST-MODIFIED:20260403T093755Z
UID:10000065-1696982400-1728604799@actioncancer.org
SUMMARY:Run for a Reason in 2024
DESCRIPTION:Whether you are you a competitive athlete or someone who is thinking about taking on their first road race have you ever considered RUNNING FOR A REASON and picking up the baton for Action Cancer? \nRunning on behalf of Action Cancer will bring with it a whole host of personal benefits from that sense of achievement through completing it or beating you personal best. But ultimately\, running for Action Cancer helps to raise vital funds that will enable us to continue providing our vital support services.  Not only that\, knowing you are running for a good cause could just be the motivation that will help with training and may provide you with that necessary boost to push you across the finish line! \n \nAhead of your chosen race Action Cancer will provide you with a T-shirt and fundraising pack with all the necessary fundraising materials\, such as sponsor forms and collection boxes. The fundraising team will also help to set up online fundraising pages that you can then share via social media. \nFor more information fill out the below form or call Mark Irwin-Watson  on 07580 133752 or email \nmirwin-watson@actioncancer.org.
URL:https://actioncancer.org/event/run-for-a-reason-in-2024/
END:VEVENT
BEGIN:VEVENT
DTSTART;VALUE=DATE:20231124
DTEND;VALUE=DATE:20241125
DTSTAMP:20260423T092326
CREATED:20260403T093859Z
LAST-MODIFIED:20260403T093859Z
UID:10000096-1700784000-1732492799@actioncancer.org
SUMMARY:Overseas Adventurer!
DESCRIPTION:Fancy setting a challenging for yourself in 2025? See parts of the world you’ve only dreamed of? \nWe are excited to share some incredible opportunities for you to challenge yourself while making a meaningful impact on the lives of those affected by cancer. We invite you to join one our Open Challenges and become a vital part of our mission to promote cancer prevention\, provide support\, and fund detection services. \nOver the course of 2025 we are promoting but not limited to a huge variety of challenges including \nLondon to Paris cycle – Tour de France (23rd-27th July 2025) \nNorthern Lights Trek (5th-9th March 2025) \nUK 3 Peaks Trek  (16th-18th May 2025) \nEach event has its own registration fee and minimum sponsorship amount.  To find out more about each events itinerary and sponsorship please contact us at trek@actioncancer.org. \nDon’t see one you fancy\, or have your own one in mind? Get in touch with us and our team can chat through organising other challenges for you. \n \nWhy take on a challenge for Action Cancer? \nChallenging yourself is a great way\, not only to tick off your bucket list\, but to show people you are literally willing to go ‘the extra mile’ in order to help the people of NI.  Each year challenge supporters raise over £200k for Action Cancers life-saving detection and support services. \nOther positive benefits include personal growth\, building resilience\, developing new skills and creating last memories.  Not to mention all the friends you will make along the way. \nOnce registered as a challenger we will send you a welcome pack and get you setup with a bespoke fundraising plan. \n \nDo I get help with my fundraising efforts? \nYes\, we have a dedicated fundraising team here at Action Cancer to help you every step of the way. Once registered we will arrange a casual induction call where we will establish the best path and methods for you to reach your goal.  You will be surprised of the options out there! Remember we are all in this together and we will have a community of people who will happily talk about their own fundraising experiences. \n  \nFor more information on any of our events or to find out what you can do please fill in the form below!
URL:https://actioncancer.org/event/overseas-adventurer/
END:VEVENT
END:VCALENDAR