BEGIN:VCALENDAR
VERSION:2.0
PRODID:-//Action Cancer - ECPv6.15.20//NONSGML v1.0//EN
CALSCALE:GREGORIAN
METHOD:PUBLISH
X-WR-CALNAME:Action Cancer
X-ORIGINAL-URL:https://actioncancer.org
X-WR-CALDESC:Events for Action Cancer
REFRESH-INTERVAL;VALUE=DURATION:PT1H
X-Robots-Tag:noindex
X-PUBLISHED-TTL:PT1H
BEGIN:VTIMEZONE
TZID:Europe/Dublin
BEGIN:DAYLIGHT
TZOFFSETFROM:+0000
TZOFFSETTO:+0100
TZNAME:IST
DTSTART:20260329T010000
END:DAYLIGHT
BEGIN:STANDARD
TZOFFSETFROM:+0100
TZOFFSETTO:+0000
TZNAME:GMT
DTSTART:20261025T010000
END:STANDARD
BEGIN:DAYLIGHT
TZOFFSETFROM:+0000
TZOFFSETTO:+0100
TZNAME:IST
DTSTART:20270328T010000
END:DAYLIGHT
BEGIN:STANDARD
TZOFFSETFROM:+0100
TZOFFSETTO:+0000
TZNAME:GMT
DTSTART:20271031T010000
END:STANDARD
BEGIN:DAYLIGHT
TZOFFSETFROM:+0000
TZOFFSETTO:+0100
TZNAME:IST
DTSTART:20280326T010000
END:DAYLIGHT
BEGIN:STANDARD
TZOFFSETFROM:+0100
TZOFFSETTO:+0000
TZNAME:GMT
DTSTART:20281029T010000
END:STANDARD
END:VTIMEZONE
BEGIN:VEVENT
DTSTART;TZID=Europe/Dublin:20270113T110000
DTEND;TZID=Europe/Dublin:20270113T120000
DTSTAMP:20260421T083845
CREATED:20260403T094205Z
LAST-MODIFIED:20260413T101751Z
UID:10000173-1799838000-1799841600@actioncancer.org
SUMMARY:Talking to Children about a Cancer diagnosis
DESCRIPTION:This talk is about including children in conversations about an adult’s cancer and ways to approach these.  Conversations about cancer are complex and challenging and even more so when children are involved. We want to offer you some insights together with some support and guidance around coping with the challenges of including children when families are dealing with cancer.  Please be aware that this talk will not cover end of life situations. \nTo register please complete the following information (you will receive the zoom link via email – if you do not receive it please check your junk emails).
URL:https://actioncancer.org/event/talking-to-children-about-a-cancer-diagnosis-jan/
LOCATION:Online Event Via Zoom
CATEGORIES:Support Events
ATTACH;FMTTYPE=image/jpeg:https://actioncancer.org/wp-content/uploads/2026/04/TalkingtoChildrenEvent.jpg
END:VEVENT
BEGIN:VEVENT
DTSTART;TZID=Europe/Dublin:20270122T100000
DTEND;TZID=Europe/Dublin:20270122T123000
DTSTAMP:20260421T083845
CREATED:20260403T094121Z
LAST-MODIFIED:20260413T110348Z
UID:10000155-1800612000-1800621000@actioncancer.org
SUMMARY:Bereavement: Understanding and coping with grief
DESCRIPTION:This group talk will focus on: how grief can affect you emotionally\, physically\, socially and provide a range of strategies to help you cope with your grief and move forward with life. \nWednesday 22 January 2027\, 10-12.30pm\, Action Cancer House\, 20 Windsor Ave\, Belfast \n(numbers limited to 25 participants)
URL:https://actioncancer.org/event/bereavement-understanding-and-coping-with-grief-jan/
LOCATION:Action Cancer House\, 20 Windsor Avenue\, Belfast\, Antrim\, BT9 6EE\, United Kingdom
CATEGORIES:Support Events
ATTACH;FMTTYPE=image/jpeg:https://actioncancer.org/wp-content/uploads/2026/04/BereavementEvent.jpg
END:VEVENT
BEGIN:VEVENT
DTSTART;TZID=Europe/Dublin:20270125T110000
DTEND;TZID=Europe/Dublin:20270125T120000
DTSTAMP:20260421T083845
CREATED:20260403T094142Z
LAST-MODIFIED:20260413T103915Z
UID:10000166-1800874800-1800878400@actioncancer.org
SUMMARY:Acupressure techniques
DESCRIPTION:Acupressure involves applying pressure to specific points on the body known as acupressure points.  The points are similar to acupuncture points however without the use of needles.  This session will teach you a number of these acupressure points for self-use in managing symptoms such as insomnia\, fatigue\, nausea and night sweats \nTo register please complete the following information (you will receive the zoom link via email – if you do not receive it please check your junk emails).
URL:https://actioncancer.org/event/acupressure-techniques-jan/
LOCATION:Online Event Via Zoom
CATEGORIES:Support Events
ATTACH;FMTTYPE=image/jpeg:https://actioncancer.org/wp-content/uploads/2026/04/AcupressureEvent.jpg
END:VEVENT
END:VCALENDAR