BEGIN:VCALENDAR
VERSION:2.0
PRODID:-//Action Cancer - ECPv6.15.20//NONSGML v1.0//EN
CALSCALE:GREGORIAN
METHOD:PUBLISH
X-WR-CALNAME:Action Cancer
X-ORIGINAL-URL:https://actioncancer.org
X-WR-CALDESC:Events for Action Cancer
REFRESH-INTERVAL;VALUE=DURATION:PT1H
X-Robots-Tag:noindex
X-PUBLISHED-TTL:PT1H
BEGIN:VTIMEZONE
TZID:Europe/Dublin
BEGIN:DAYLIGHT
TZOFFSETFROM:+0000
TZOFFSETTO:+0100
TZNAME:IST
DTSTART:20240331T010000
END:DAYLIGHT
BEGIN:STANDARD
TZOFFSETFROM:+0100
TZOFFSETTO:+0000
TZNAME:GMT
DTSTART:20241027T010000
END:STANDARD
BEGIN:DAYLIGHT
TZOFFSETFROM:+0000
TZOFFSETTO:+0100
TZNAME:IST
DTSTART:20250330T010000
END:DAYLIGHT
BEGIN:STANDARD
TZOFFSETFROM:+0100
TZOFFSETTO:+0000
TZNAME:GMT
DTSTART:20251026T010000
END:STANDARD
BEGIN:DAYLIGHT
TZOFFSETFROM:+0000
TZOFFSETTO:+0100
TZNAME:IST
DTSTART:20260329T010000
END:DAYLIGHT
BEGIN:STANDARD
TZOFFSETFROM:+0100
TZOFFSETTO:+0000
TZNAME:GMT
DTSTART:20261025T010000
END:STANDARD
BEGIN:DAYLIGHT
TZOFFSETFROM:+0000
TZOFFSETTO:+0100
TZNAME:IST
DTSTART:20270328T010000
END:DAYLIGHT
BEGIN:STANDARD
TZOFFSETFROM:+0100
TZOFFSETTO:+0000
TZNAME:GMT
DTSTART:20271031T010000
END:STANDARD
END:VTIMEZONE
BEGIN:VEVENT
DTSTART;TZID=Europe/Dublin:20260424T110000
DTEND;TZID=Europe/Dublin:20260424T120000
DTSTAMP:20260422T080127
CREATED:20260403T094127Z
LAST-MODIFIED:20260410T112208Z
UID:10000157-1777028400-1777032000@actioncancer.org
SUMMARY:Relaxation space – Demonstrating head massage
DESCRIPTION:This session provides the space for you to relax and take time out for yourself.  It will cover the importance of relaxation\, and guide you through a lovely head massage and simple relaxation techniques. \nTo register please complete the following information (you will receive the zoom link via email – if you do not receive it please check your junk emails).
URL:https://actioncancer.org/event/relaxation-space-demonstrating-head-massage-apr/
LOCATION:Online Event Via Zoom
CATEGORIES:Support Events
ATTACH;FMTTYPE=image/jpeg:https://actioncancer.org/wp-content/uploads/2026/04/RelaxImage.jpg
END:VEVENT
BEGIN:VEVENT
DTSTART;VALUE=DATE:20260424
DTEND;VALUE=DATE:20260425
DTSTAMP:20260422T080127
CREATED:20260403T094019Z
LAST-MODIFIED:20260409T074011Z
UID:10000133-1776988800-1777075199@actioncancer.org
SUMMARY:Action Cancer Golf Day 2026
DESCRIPTION:Action Cancer is hosting its annual Golf Day on Friday 24th April at Royal Belfast Golf Club. \nRoyal Belfast GC is a stunning venue and actually the oldest golf club in Ireland! Measuring 6\,309 yards\, Royal Belfast offers a rewarding challenge for golfers of all skill levels\, set against one of the most picturesque backdrops in Ireland. We would love for you to join us\, show some support and have a tee-riffic day! \n \n  \nThis is shaping up to be an un-fore-gettable event! We will be raising funds and awareness for our Skin Cancer Detection Service. \nSo come and join us for a tea/coffee and bacon bap in the Colt Room\, 18 holes of golf\, prizes available throughout the day\, including Longest Drive and Nearest the Pin and lovely food afterwards in the bar. \nPrice is at £500 for a 4-ball\, with individual places also available. All participants will also receive a free gift bag full of amazing goodies! \nYou can register below using the form. Once registered we will be in touch with all the details of the day and to organise your tee time. \nThere is also opportunity for hole sponsorship. For more information email golf@actioncancer.org \nSee you on the course! \nKindly supported by Cranmore Dental & EY \nPlease enable JavaScript in your browser to complete this form.Please enable JavaScript in your browser to complete this form.Name *FirstLastCompanyAddress *Address Line 1CityState / Province / RegionPostal CodeEmail *Phone *Choose from the list below: *1-ball - £125.002-ball - £250.003-ball - £375.004-ball - £500.00Payment Details *Total£0.00Register Now
URL:https://actioncancer.org/event/action-cancer-golf-day-2026/
LOCATION:Royal Belfast Golf Club\, Station Rd\, Holywood\, BT18 0BP
CATEGORIES:Fundraising
ATTACH;FMTTYPE=image/png:https://actioncancer.org/wp-content/uploads/2026/04/ACGolfDayImage.png
END:VEVENT
BEGIN:VEVENT
DTSTART;TZID=Europe/Dublin:20260416T110000
DTEND;TZID=Europe/Dublin:20260416T120000
DTSTAMP:20260422T080127
CREATED:20260403T094142Z
LAST-MODIFIED:20260410T111836Z
UID:10000162-1776337200-1776340800@actioncancer.org
SUMMARY:Bach Flower Remedies – helping stabilise emotions
DESCRIPTION:This session will talk about the 38 different Bach Flower Remedies – providing information on how to safely use them yourself to manage your emotions. \nTo register please complete the following information (you will receive the zoom link via email – if you do not receive it please check your junk emails).
URL:https://actioncancer.org/event/bach-flower-remedies-helping-stabilise-emotions-apr/
LOCATION:Online Event Via Zoom
CATEGORIES:Support Events
ATTACH;FMTTYPE=image/jpeg:https://actioncancer.org/wp-content/uploads/2026/04/BachFlowerImage.jpg
END:VEVENT
BEGIN:VEVENT
DTSTART;TZID=Europe/Dublin:20251001T140000
DTEND;TZID=Europe/Dublin:20251001T153000
DTSTAMP:20260422T080127
CREATED:20260403T093935Z
LAST-MODIFIED:20260408T083808Z
UID:10000113-1759327200-1759332600@actioncancer.org
SUMMARY:Self-Care Strategies to Improve Wellbeing
DESCRIPTION:This session will provide information on a range of strategies to help reduce fear\, anxiety\, improve sleep and aid relaxation. \nDate:  Wednesday\, 1 October 2026\, 2-3.30pm\, Action Cancer House\, 20 Windsor Ave\, Belfast \n(numbers limited to 25 participants) \n 
URL:https://actioncancer.org/event/self-care-strategies-to-improve-wellbeing-oct/
LOCATION:Action Cancer House\, 20 Windsor Avenue\, Belfast\, Antrim\, BT9 6EE\, United Kingdom
CATEGORIES:Support Events
END:VEVENT
END:VCALENDAR