BEGIN:VCALENDAR
VERSION:2.0
PRODID:-//Action Cancer - ECPv6.15.20//NONSGML v1.0//EN
CALSCALE:GREGORIAN
METHOD:PUBLISH
X-ORIGINAL-URL:https://actioncancer.org
X-WR-CALDESC:Events for Action Cancer
REFRESH-INTERVAL;VALUE=DURATION:PT1H
X-Robots-Tag:noindex
X-PUBLISHED-TTL:PT1H
BEGIN:VTIMEZONE
TZID:Europe/Dublin
BEGIN:DAYLIGHT
TZOFFSETFROM:+0000
TZOFFSETTO:+0100
TZNAME:IST
DTSTART:20240331T010000
END:DAYLIGHT
BEGIN:STANDARD
TZOFFSETFROM:+0100
TZOFFSETTO:+0000
TZNAME:GMT
DTSTART:20241027T010000
END:STANDARD
BEGIN:DAYLIGHT
TZOFFSETFROM:+0000
TZOFFSETTO:+0100
TZNAME:IST
DTSTART:20250330T010000
END:DAYLIGHT
BEGIN:STANDARD
TZOFFSETFROM:+0100
TZOFFSETTO:+0000
TZNAME:GMT
DTSTART:20251026T010000
END:STANDARD
BEGIN:DAYLIGHT
TZOFFSETFROM:+0000
TZOFFSETTO:+0100
TZNAME:IST
DTSTART:20260329T010000
END:DAYLIGHT
BEGIN:STANDARD
TZOFFSETFROM:+0100
TZOFFSETTO:+0000
TZNAME:GMT
DTSTART:20261025T010000
END:STANDARD
BEGIN:DAYLIGHT
TZOFFSETFROM:+0000
TZOFFSETTO:+0100
TZNAME:IST
DTSTART:20270328T010000
END:DAYLIGHT
BEGIN:STANDARD
TZOFFSETFROM:+0100
TZOFFSETTO:+0000
TZNAME:GMT
DTSTART:20271031T010000
END:STANDARD
BEGIN:DAYLIGHT
TZOFFSETFROM:+0000
TZOFFSETTO:+0100
TZNAME:IST
DTSTART:20280326T010000
END:DAYLIGHT
BEGIN:STANDARD
TZOFFSETFROM:+0100
TZOFFSETTO:+0000
TZNAME:GMT
DTSTART:20281029T010000
END:STANDARD
END:VTIMEZONE
BEGIN:VEVENT
DTSTART;VALUE=DATE:20250722
DTEND;VALUE=DATE:20271101
DTSTAMP:20260425T003809
CREATED:20260403T094257Z
LAST-MODIFIED:20260414T095302Z
UID:10000192-1753142400-1825027199@actioncancer.org
SUMMARY:Host a Breast Friends BBQ
DESCRIPTION:We’ve teamed up with BBQ Social Media Influencers Jim Moore @onlyslaggin and his wife Romilly @only.rom to encourage as many people as possible to take on a ‘Breast Friends BBQ’ this summer to raise vital funds for our life-saving breast screening service. \nThe campaign encourages friends\, families\, and neighbours to come together this summer around the BBQ to enjoy good food and meaningful conversations\, all while supporting a great cause. \nIt costs us £120 to deliver a free breast screening to a local woman either at Action Cancer House or on board the Big Bus. We screen approximately 8\,000 women a year for breast cancer. As our breast screening service receives no government funding\, we heavily rely on the generosity of local people to keep this service going. \nJoanne Henderson\, mum of two from Holywood\, is an Action Cancer Ambassador having been diagnosed with breast cancer at the age of 42: \n“Action Cancer saved my life through early breast cancer detection.  I had no signs or symptoms and have no idea how long before I would have noticed anything. I may not have reached the age of 50 for my first mammogram with the NHS.” \n“Please get together with your loved ones\, spread awareness and support this wonderful cause. The funds raised by your BBQ could save the life of a local woman in your community\, someone just like me.” \nFill out the form below to express your interest and for a fundraising pack which includes some delicious pink themed BBQ recipes\, created by Romilly. \n  \n \nAlternatively\, call or text Lisa McClenaghan on 07825 266951 to have a chat or email breastfriendsbbq@actioncancer.org \nPlease enable JavaScript in your browser to complete this form.Please enable JavaScript in your browser to complete this form.Name *FirstLastAddress *Address Line 1CityState / Province / RegionPostal CodeEmail *Contact No *Where did you hear about Breast Friends BBQ? *I would like to be contacted by email: *YesNoI would like to be contacted by post: *YesNoI would like to be contacted by phone: *YesNoSubmit
URL:https://actioncancer.org/event/host-a-breast-friends-bbq/
CATEGORIES:Fundraising
ATTACH;FMTTYPE=image/jpeg:https://actioncancer.org/wp-content/uploads/2026/04/HostBFFBBQEventImage.jpg
END:VEVENT
BEGIN:VEVENT
DTSTART;TZID=Europe/Dublin:20270409T080000
DTEND;TZID=Europe/Dublin:20270809T170000
DTSTAMP:20260425T003809
CREATED:20260403T094235Z
LAST-MODIFIED:20260405T101759Z
UID:10000188-1807257600-1817830800@actioncancer.org
SUMMARY:The Alps Trek 2026
DESCRIPTION:Are you ready for the adventure of a lifetime? Join Action Cancer and Global Adventure Challenges for an unforgettable five-day trek through the heart of the Alps — all in aid of saving lives. \n🏔️ Key Information \n📅 Dates: 16th–20th September 2026\n🚶 Distance: Approx. 42km over 5 days\n🌍 Trekking Through: 2 stunning European countries\, France and Switzerland\n💪 Challenge Grade: Tough\n🛌 Accommodation: A mix of comfortable hotels and traditional mountain huts\n🌄 Highlights: \n\nPanoramic views of glaciers\, alpine waterfalls\, and open green meadows\nExperience the beauty of the Alps like never before\n\n💰 Costs & Fundraising \n🎟️ Registration Fee: £199\n🎯 Minimum Fundraising Target: £2875 \n✅ What’s Included: \n\nReturn flights from Dublin or Belfast (TBC)\nAll accommodation\nAll meals from dinner on Day 1 to breakfast on Day 5\n\n❌ What’s Not Included: \n\nTravel insurance\nDrinks with meals\n\nWhy Trek for Action Cancer? \nEvery step you take helps save lives and support people affected by cancer across Northern Ireland. Your fundraising will help provide early detection\, support\, and prevention services — making a real impact in your community. \nPlaces are limited — sign up now and step into adventure for a cause that matters! Express your interest in this trek using the form below: \nPlease enable JavaScript in your browser to complete this form.Please enable JavaScript in your browser to complete this form.Name *FirstLastEmail *Contact No *Your Message *Submit
URL:https://actioncancer.org/event/the-alps-trek-2026/
LOCATION:The Alps\, Switzerland
CATEGORIES:Fundraising
ATTACH;FMTTYPE=image/png:https://actioncancer.org/wp-content/uploads/2026/04/AlpsTrekImage.png
END:VEVENT
END:VCALENDAR